BEGIN:VCALENDAR
VERSION:2.0
PRODID:-//wp-events-plugin.com//6.4.7.1//EN
TZID:Europe/Paris
X-WR-TIMEZONE:Europe/Paris
BEGIN:VEVENT
UID:475@assobrocoli.fr
DTSTART;TZID=Europe/Paris:20260426T130000
DTEND;TZID=Europe/Paris:20260426T170000
DTSTAMP:20260414T194840Z
URL:https://assobrocoli.fr/events/atelier-cyanotype/
SUMMARY:Atelier cyanotype
DESCRIPTION:Dans le cadre de l'expo photo "Ma vie" journal d'un adolescent\
 n\nLes jeunes photographes vous accompagnent pour tirer selon la technique
  du cyanotype&nbsp\;les portraits réalisés avec Anne-Cécile Estève à 
 l'occasion du marché au Café Brocoli.\n\nL'atelier découverte par la pr
 atique&nbsp\;dimanche 26 avril 13h-17h au Café Brocoli est ouvert à tous
  à partir de 5 ans.\n\n&nbsp\;\n\n&nbsp\;\n\n&nbsp\;\n\n&nbsp\;\n\n&nbsp\
 ;
ATTACH;FMTTYPE=image/jpeg:https://assobrocoli.fr/wp-content/uploads/2026/0
 4/cyano.png
CATEGORIES:atelier,photogrpahie
LOCATION:Café Brocoli\, 13 avenue Philippe de Volvire\, Sens de Bretagne\,
  France
X-APPLE-STRUCTURED-LOCATION;VALUE=URI;X-ADDRESS=13 avenue Philippe de Volvi
 re\, Sens de Bretagne\, France;X-APPLE-RADIUS=100;X-TITLE=Café Brocoli:ge
 o:0,0
END:VEVENT
BEGIN:VTIMEZONE
TZID:Europe/Paris
X-LIC-LOCATION:Europe/Paris
BEGIN:DAYLIGHT
DTSTART:20260329T030000
TZOFFSETFROM:+0100
TZOFFSETTO:+0200
TZNAME:CEST
END:DAYLIGHT
END:VTIMEZONE
END:VCALENDAR