BEGIN:VCALENDAR
VERSION:2.0
PRODID:-//wp-events-plugin.com//6.4.7.1//EN
TZID:Europe/Paris
X-WR-TIMEZONE:Europe/Paris
BEGIN:VEVENT
UID:476@assobrocoli.fr
DTSTART;TZID=Europe/Paris:20260616T210000
DTEND;TZID=Europe/Paris:20260616T230000
DTSTAMP:20260418T115855Z
URL:https://assobrocoli.fr/events/foot-france-senegal/
SUMMARY:FOOT France-Sénégal
DESCRIPTION:Premier match de l'équipe de France en coupe du monde.\n\nComm
 e disait Johnny :\n\nAllez les bleus\, on est tous ensemble !\n\nhttps://y
 outu.be/9ku9s0CKbpY?si=dc_n3FMlSDASgUIE
ATTACH;FMTTYPE=image/jpeg:https://assobrocoli.fr/wp-content/uploads/2026/0
 4/20260417_183358-scaled.jpg
CATEGORIES:foot
LOCATION:Café Brocoli\, 13 avenue Philippe de Volvire\, Sens de Bretagne\,
  France
X-APPLE-STRUCTURED-LOCATION;VALUE=URI;X-ADDRESS=13 avenue Philippe de Volvi
 re\, Sens de Bretagne\, France;X-APPLE-RADIUS=100;X-TITLE=Café Brocoli:ge
 o:0,0
END:VEVENT
BEGIN:VTIMEZONE
TZID:Europe/Paris
X-LIC-LOCATION:Europe/Paris
BEGIN:DAYLIGHT
DTSTART:20260329T030000
TZOFFSETFROM:+0100
TZOFFSETTO:+0200
TZNAME:CEST
END:DAYLIGHT
END:VTIMEZONE
END:VCALENDAR