BEGIN:VCALENDAR
VERSION:2.0
PRODID:-//wp-events-plugin.com//6.4.7.1//EN
TZID:Europe/Paris
X-WR-TIMEZONE:Europe/Paris
BEGIN:VEVENT
UID:474@assobrocoli.fr
DTSTART;TZID=Europe/Paris:20260414T170000
DTEND;TZID=Europe/Paris:20260414T190000
DTSTAMP:20260414T155629Z
URL:https://assobrocoli.fr/events/studio-photo-ephemere/
SUMMARY:Studio photo éphémère
DESCRIPTION:Dans le cadre de l'expo photo "Ma vie" journal d'un adolescent\
 n\nLes jeunes photographes accompagnés de Anne-Cécile Estève photograph
 ieront ceux qui passent par là à l'occasion du marché du Café Brocoli.
 \n\nMardi 14 avril de 17h à 19h\n\n&nbsp\;\n\nCes photos seront ensuite t
 irées selon la technique du cyanotype lors d'un atelier dimanche 26 avril
  13h-17h au Café Brocoli
ATTACH;FMTTYPE=image/jpeg:https://assobrocoli.fr/wp-content/uploads/2026/0
 4/20260414_172742-scaled.jpg
CATEGORIES:atelier
LOCATION:Café Brocoli\, 13 avenue Philippe de Volvire\, Sens de Bretagne\,
  France
X-APPLE-STRUCTURED-LOCATION;VALUE=URI;X-ADDRESS=13 avenue Philippe de Volvi
 re\, Sens de Bretagne\, France;X-APPLE-RADIUS=100;X-TITLE=Café Brocoli:ge
 o:0,0
END:VEVENT
BEGIN:VTIMEZONE
TZID:Europe/Paris
X-LIC-LOCATION:Europe/Paris
BEGIN:DAYLIGHT
DTSTART:20260329T030000
TZOFFSETFROM:+0100
TZOFFSETTO:+0200
TZNAME:CEST
END:DAYLIGHT
END:VTIMEZONE
END:VCALENDAR